BEGIN:VCALENDAR
VERSION:2.0
PRODID:-//De weg naar A - ECPv5.12.2//NONSGML v1.0//EN
CALSCALE:GREGORIAN
METHOD:PUBLISH
X-WR-CALNAME:De weg naar A
X-ORIGINAL-URL:https://www.dewegnaara.be
X-WR-CALDESC:Evenementen voor De weg naar A
BEGIN:VTIMEZONE
TZID:Europe/Brussels
BEGIN:DAYLIGHT
TZOFFSETFROM:+0100
TZOFFSETTO:+0200
TZNAME:CEST
DTSTART:20190331T010000
END:DAYLIGHT
BEGIN:STANDARD
TZOFFSETFROM:+0200
TZOFFSETTO:+0100
TZNAME:CET
DTSTART:20191027T010000
END:STANDARD
END:VTIMEZONE
BEGIN:VEVENT
DTSTART;TZID=Europe/Brussels:20191106T140000
DTEND;TZID=Europe/Brussels:20191106T163000
DTSTAMP:20260416T140215
CREATED:20191001T130853Z
LAST-MODIFIED:20191001T130853Z
UID:359-1573048800-1573057800@www.dewegnaara.be
SUMMARY:Verwerking van verlies bij kinderen.
DESCRIPTION:Verwerking van verlies bij kinderen \nVerdriet owv het verlies van een zeer dierbaar iemand\, verlies van een geliefd huisdier\, verlies van een thuisgevoel nav scheiding\, verhuis\, verandering van school\, …enkele van de vele gebeurtenissen die maken dat kinderen geconfronteerd worden met verlies en hun daar bijhorende verdriet. \nHoe hiermee omgaan/verwerken is voor ieder kind verschillend. \nAls ouder/opvoeder is het soms een zoektocht om dit verdriet op te vangen. \nDe Weg naar A richt een namiddag in voor kinderen tussen 10 en 16 jaar om hier tijd en Aandacht aan te besteden. \nIn kleine groep gaan we kennismaken met elkaar. \nWe trekken\, als de weergoden het toelaten\, even de natuur in. \nVervolgens nestelen we ons bij het knisperende houtkacheltje in de praktijkruimte van De Weg naar A. \nTijdens de gesprekken knutselen ze een persoonlijk werkje in elkaar dat hen in verbinding brengt met hun verdriet\, vragen\, noden. \nEen persoonlijk stukje Kunst waar ze hun emoties kunnen in verwerken. \nEen persoonlijk stukje Kunst dat hen standvastigheid biedt. \nWaar : De Weg naar A te Balen \nWanneer : woensdag 6 november 2019 van 14 u tot 16.30 u \nInschrijven kan via ann@dewegnaara.be\nOf telefonisch 0471-660617 \nPrijs : € 15 per persoon.
URL:https://www.dewegnaara.be/event/verwerking-van-verlies-bij-kinderen/
LOCATION:De Weg naar A\, Krouwel 26\, Balen\, Antwerpen\, 2490\, België
CATEGORIES:Thema momenten
ORGANIZER;CN="Ann%20Swinnen":MAILTO:ann@dewegnaara.be
END:VEVENT
END:VCALENDAR